BEGIN:VCALENDAR
VERSION:2.0
PRODID:-//OmniMagnetCalendar//EN
BEGIN:VEVENT
DTSTAMP:20190625T195740Z
STATUS:CONFIRMED
UID:hcwnc.clubs.harvard.edu128
DTSTART:20250628T154217Z
DTEND:
LOCATION:
SUMMARY:2025 Board Election is Over
DESCRIPTION:Your new Board: David Smith, President  Becki Ledford, Secretary  Jack Heinen, Treasurer  Dana Dubreiul, Board Member at Large
BEGIN:VALARM
TRIGGER:-PT15M
ACTION:DISPLAY
END:VALARM
TRANSP:OPAQUE
END:VEVENT
END:VCALENDAR
